BEGIN:VCALENDAR
VERSION:2.0
PRODID:-//Chelsea Chen - ECPv4.6.9//NONSGML v1.0//EN
CALSCALE:GREGORIAN
METHOD:PUBLISH
X-WR-CALNAME:Chelsea Chen
X-ORIGINAL-URL:https://chelseachen.com
X-WR-CALDESC:Events for Chelsea Chen
BEGIN:VEVENT
DTSTART;TZID=Europe/Berlin:20200730T123000
DTEND;TZID=Europe/Berlin:20200730T130000
DTSTAMP:20260423T205034
CREATED:20200212T173804Z
LAST-MODIFIED:20200212T173804Z
UID:2054-1596112200-1596114000@chelseachen.com
SUMMARY:Zürich\, Switzerland
DESCRIPTION:Lunchtime Concert at the Fraumünster \n
URL:https://chelseachen.com/event/zurich-switzerland/
LOCATION:Münsterhof 2\, 8001 Zürich\, Switzerland
ATTACH;FMTTYPE=image/jpeg:https://chelseachen.com/wp-content/uploads/2020/02/The_Organ_at_Fraumunster_Church.jpg
END:VEVENT
END:VCALENDAR