BEGIN:VCALENDAR
VERSION:2.0
PRODID:-//Chelsea Chen - ECPv4.6.9//NONSGML v1.0//EN
CALSCALE:GREGORIAN
METHOD:PUBLISH
X-WR-CALNAME:Chelsea Chen
X-ORIGINAL-URL:https://chelseachen.com
X-WR-CALDESC:Events for Chelsea Chen
BEGIN:VEVENT
DTSTART;TZID=Europe/Zurich:20220311T190000
DTEND;TZID=Europe/Zurich:20220311T203000
DTSTAMP:20260423T205430
CREATED:20220307T203753Z
LAST-MODIFIED:20220307T203753Z
UID:2172-1647025200-1647030600@chelseachen.com
SUMMARY:Zurich\, Switzerland: Andreaskirche with Ensemble Ultraschall
DESCRIPTION:\nPROGRAM:\nMendelssohn: Sonate Nr. 3 A-Dur\, Op. 65\, Nr. 3\nCon moto maestoso (nach Luthers Choral “Aus tiefer Not schrei ich zu dir”)\n\n\nGemeinde Lied 83 – Aus Tiefer Not (Luther)\n\n\nChristoph Bernhard: Geistlicher Harmonien – Aus der Tieffen\n\n\nJ.S. Bach: Kantate BWV 131\, Meine Seele wartet auf den Herrn\n\n\nMarcel Dupré: Quia Apud Te (De Profundis)\n\n\nChristoph Gluck: De Profundis\n\n\nGemeinde Lied 84 – Aus Tiefer Not (Praetorius)\n\n\nJ.S. Bach: Kantate BWV 38\, Ich höre mitten in den Leiden\n\n\n================================================\n«Schreien\, Rufen\, Flehen\, Warten und gemeinsam hoffen.»\nGerade in dieser Zeit passt unser Thema des Szenischen Konzertes:\nIch laden Dich herzlich ein\, gemeinsam mit uns in den Psalm 130\neinzutauchen. Mal Ehrlich …? P S A L M E N ist eine Projekt in dem die Psalmen für die heutige Zeit lebendig gemacht werden.\nDie Musiker:innen und Tänzer:innen des Ensemble u l t r a S c h a l l s führen Sie mit Text\, Tanz und Musik durch den Psalm 130. Weitere Informationen: www.ultra-schall.ch\n\n\nFreitag\, 11. März\n18 Uhr Suppe und Brot\n19 Uhr Feierwerks Szenischer Gottesdienst.\nAndreaskirche\, Brahmsstrasse 106a\n\n
URL:https://chelseachen.com/event/zurich-switzerland-andreaskirche-with-ensemble-ultraschall/
LOCATION:Brahmsstrasse 106a\, Zurich\, Switzerland
END:VEVENT
END:VCALENDAR