BEGIN:VCALENDAR
VERSION:2.0
PRODID:-//Chelsea Chen - ECPv4.6.9//NONSGML v1.0//EN
CALSCALE:GREGORIAN
METHOD:PUBLISH
X-WR-CALNAME:Chelsea Chen
X-ORIGINAL-URL:https://chelseachen.com
X-WR-CALDESC:Events for Chelsea Chen
BEGIN:VEVENT
DTSTART;TZID=Europe/Zurich:20220922T123000
DTEND;TZID=Europe/Zurich:20220922T130000
DTSTAMP:20260423T191606
CREATED:20220505T203710Z
LAST-MODIFIED:20220505T203855Z
UID:2193-1663849800-1663851600@chelseachen.com
SUMMARY:Zurich\, Switzerland
DESCRIPTION:Solo Concert \n
URL:https://chelseachen.com/event/zurich-switzerland-2/
LOCATION:Münsterhof 2\, 8001 Zürich\, Switzerland
END:VEVENT
END:VCALENDAR