BEGIN:VCALENDAR
VERSION:2.0
PRODID:-//Chelsea Chen - ECPv4.6.9//NONSGML v1.0//EN
CALSCALE:GREGORIAN
METHOD:PUBLISH
X-WR-CALNAME:Chelsea Chen
X-ORIGINAL-URL:https://chelseachen.com
X-WR-CALDESC:Events for Chelsea Chen
BEGIN:VEVENT
DTSTART;TZID=America/New_York:20190428T160000
DTEND;TZID=America/New_York:20190428T173000
DTSTAMP:20260423T222512
CREATED:20180327T201014Z
LAST-MODIFIED:20180327T201434Z
UID:1867-1556467200-1556472600@chelseachen.com
SUMMARY:Youngstown\, Ohio
DESCRIPTION:
URL:https://chelseachen.com/event/youngstown-ohio/
LOCATION:1000 5th Ave\, Youngstown\, OH 44504
ATTACH;FMTTYPE=image/jpeg:https://chelseachen.com/wp-content/uploads/2018/03/Stambaugh-28b.jpg
END:VEVENT
END:VCALENDAR