BEGIN:VCALENDAR
VERSION:2.0
PRODID:-//Chelsea Chen - ECPv4.6.9//NONSGML v1.0//EN
CALSCALE:GREGORIAN
METHOD:PUBLISH
X-WR-CALNAME:Chelsea Chen
X-ORIGINAL-URL:https://chelseachen.com
X-WR-CALDESC:Events for Chelsea Chen
BEGIN:VEVENT
DTSTART;TZID=America/Chicago:20221112T193000
DTEND;TZID=America/Chicago:20221112T210000
DTSTAMP:20260423T171638
CREATED:20221108T161233Z
LAST-MODIFIED:20221108T161233Z
UID:2265-1668281400-1668286800@chelseachen.com
SUMMARY:Wheaton College\, Illinois
DESCRIPTION:Solo Concert in Edman Chapel \n
URL:https://chelseachen.com/event/wheaton-college-illinois/
LOCATION:401 E Franklin St\, Wheaton\, IL 60187
END:VEVENT
END:VCALENDAR