BEGIN:VCALENDAR
VERSION:2.0
PRODID:-//Chelsea Chen - ECPv4.6.9//NONSGML v1.0//EN
CALSCALE:GREGORIAN
METHOD:PUBLISH
X-WR-CALNAME:Chelsea Chen
X-ORIGINAL-URL:https://chelseachen.com
X-WR-CALDESC:Events for Chelsea Chen
BEGIN:VEVENT
DTSTART;TZID=Europe/Stockholm:20190728T160000
DTEND;TZID=Europe/Stockholm:20190728T173000
DTSTAMP:20260423T222701
CREATED:20180208T182528Z
LAST-MODIFIED:20180208T182528Z
UID:1832-1564329600-1564335000@chelseachen.com
SUMMARY:Uppsala Cathedral\, Sweden
DESCRIPTION:
URL:https://chelseachen.com/event/uppsala-cathedral-sweden/
LOCATION:Domkyrkoplan\, 753 10\, Uppsala\, Sweden
ATTACH;FMTTYPE=image/jpeg:https://chelseachen.com/wp-content/uploads/2018/02/7599791022_ccbdeaf850_b.jpg
END:VEVENT
END:VCALENDAR