BEGIN:VCALENDAR
VERSION:2.0
PRODID:-//Chelsea Chen - ECPv4.6.9//NONSGML v1.0//EN
CALSCALE:GREGORIAN
METHOD:PUBLISH
X-WR-CALNAME:Chelsea Chen
X-ORIGINAL-URL:https://chelseachen.com
X-WR-CALDESC:Events for Chelsea Chen
BEGIN:VEVENT
DTSTART;TZID=America/Chicago:20190510T190000
DTEND;TZID=America/Chicago:20190510T203000
DTSTAMP:20260423T222638
CREATED:20180802T162022Z
LAST-MODIFIED:20180802T162414Z
UID:1904-1557514800-1557520200@chelseachen.com
SUMMARY:Tulsa\, Oklahoma
DESCRIPTION:Solo Organ Concert  \n
URL:https://chelseachen.com/event/tulsa-oklahoma/
LOCATION:501 S Cincinnati Ave\, Tulsa\, OK 74103
ATTACH;FMTTYPE=image/jpeg:https://chelseachen.com/wp-content/uploads/2018/08/62ddba0b8f8bd35a8b9e60f1eb64093e.jpg
END:VEVENT
END:VCALENDAR