BEGIN:VCALENDAR
VERSION:2.0
PRODID:-//Chelsea Chen - ECPv4.6.9//NONSGML v1.0//EN
CALSCALE:GREGORIAN
METHOD:PUBLISH
X-WR-CALNAME:Chelsea Chen
X-ORIGINAL-URL:https://chelseachen.com
X-WR-CALDESC:Events for Chelsea Chen
BEGIN:VEVENT
DTSTART;TZID=America/Phoenix:20241115T190000
DTEND;TZID=America/Phoenix:20241115T210000
DTSTAMP:20260423T173222
CREATED:20231017T103646Z
LAST-MODIFIED:20231017T103646Z
UID:2299-1731697200-1731704400@chelseachen.com
SUMMARY:Tucson\, AZ: Catalina United Methodist Church
DESCRIPTION:Solo Organ Recital\, time TBA \n
URL:https://chelseachen.com/event/tucson-az-catalina-united-methodist-church/
LOCATION:2700 E Speedway Blvd\, Tucson\, AZ\, 85716\, United States
END:VEVENT
END:VCALENDAR