BEGIN:VCALENDAR
VERSION:2.0
PRODID:-//Chelsea Chen - ECPv4.6.9//NONSGML v1.0//EN
CALSCALE:GREGORIAN
METHOD:PUBLISH
X-WR-CALNAME:Chelsea Chen
X-ORIGINAL-URL:https://chelseachen.com
X-WR-CALDESC:Events for Chelsea Chen
BEGIN:VEVENT
DTSTART;VALUE=DATE:20200426
DTEND;VALUE=DATE:20200427
DTSTAMP:20260423T205609
CREATED:20190828T093242Z
LAST-MODIFIED:20200413T190438Z
UID:2017-1587859200-1587945599@chelseachen.com
SUMMARY:Sun City West POSTPONED
DESCRIPTION:Solo Concert \n
URL:https://chelseachen.com/event/sun-city-west-az-our-lady-of-lourdes/
LOCATION:19002 N 128th Ave\, Sun City West\, AZ 85375
ATTACH;FMTTYPE=image/jpeg:https://chelseachen.com/wp-content/uploads/2019/08/lourdes.jpg
END:VEVENT
END:VCALENDAR