BEGIN:VCALENDAR
VERSION:2.0
PRODID:-//Chelsea Chen - ECPv4.6.9//NONSGML v1.0//EN
CALSCALE:GREGORIAN
METHOD:PUBLISH
X-WR-CALNAME:Chelsea Chen
X-ORIGINAL-URL:https://chelseachen.com
X-WR-CALDESC:Events for Chelsea Chen
BEGIN:VEVENT
DTSTART;TZID=Europe/Berlin:20190809T190000
DTEND;TZID=Europe/Berlin:20190809T200000
DTSTAMP:20260423T222419
CREATED:20190322T150927Z
LAST-MODIFIED:20190322T150927Z
UID:1950-1565377200-1565380800@chelseachen.com
SUMMARY:Stuttgart\, Germany
DESCRIPTION:Solo Concert as part of the “Internationaler Orgelsommer” \n
URL:https://chelseachen.com/event/stuttgart-germany/
LOCATION:Stiftstraße 12\, Stuttgart\, 70173\, Germany
ATTACH;FMTTYPE=image/jpeg:https://chelseachen.com/wp-content/uploads/2019/03/Stuttgart-Stiftskirche-OrgelEmpore.jpg
END:VEVENT
END:VCALENDAR