BEGIN:VCALENDAR
VERSION:2.0
PRODID:-//Chelsea Chen - ECPv4.6.9//NONSGML v1.0//EN
CALSCALE:GREGORIAN
METHOD:PUBLISH
X-WR-CALNAME:Chelsea Chen
X-ORIGINAL-URL:https://chelseachen.com
X-WR-CALDESC:Events for Chelsea Chen
BEGIN:VEVENT
DTSTART;TZID=America/Los_Angeles:20170719T193000
DTEND;TZID=America/Los_Angeles:20170719T210000
DTSTAMP:20260424T015637
CREATED:20170529T230435Z
LAST-MODIFIED:20170529T230435Z
UID:1684-1500492600-1500498000@chelseachen.com
SUMMARY:St. Paul's Cathedral\, San Diego
DESCRIPTION:Concert for the POE (Pipe Organ Encounter) \n
URL:https://chelseachen.com/event/st-pauls-cathedral-san-diego/
LOCATION:2728 Sixth Ave\, San Diego\, CA 92103
ATTACH;FMTTYPE=image/jpeg:https://chelseachen.com/wp-content/uploads/2017/04/StPaulCathedralSanDiego.jpg
END:VEVENT
END:VCALENDAR