BEGIN:VCALENDAR
VERSION:2.0
PRODID:-//Chelsea Chen - ECPv4.6.9//NONSGML v1.0//EN
CALSCALE:GREGORIAN
METHOD:PUBLISH
X-WR-CALNAME:Chelsea Chen
X-ORIGINAL-URL:https://chelseachen.com
X-WR-CALDESC:Events for Chelsea Chen
BEGIN:VEVENT
DTSTART;TZID=America/Chicago:20190507T193000
DTEND;TZID=America/Chicago:20190507T210000
DTSTAMP:20260423T222548
CREATED:20180920T041033Z
LAST-MODIFIED:20180920T041033Z
UID:1930-1557257400-1557262800@chelseachen.com
SUMMARY:St. Paul\, MN
DESCRIPTION:Solo Concert\, Time TBA \n
URL:https://chelseachen.com/event/st-paul-mn/
LOCATION:1514 Englewood Avenue Saint Paul\, MN 55104
ATTACH;FMTTYPE=image/jpeg:https://chelseachen.com/wp-content/uploads/2018/09/Hamline_Methodist_Episcopal_Church.jpg
END:VEVENT
END:VCALENDAR