BEGIN:VCALENDAR
VERSION:2.0
PRODID:-//Chelsea Chen - ECPv4.6.9//NONSGML v1.0//EN
CALSCALE:GREGORIAN
METHOD:PUBLISH
X-WR-CALNAME:Chelsea Chen
X-ORIGINAL-URL:https://chelseachen.com
X-WR-CALDESC:Events for Chelsea Chen
BEGIN:VEVENT
DTSTART;TZID=America/Chicago:20200419T190000
DTEND;TZID=America/Chicago:20200419T203000
DTSTAMP:20260423T205152
CREATED:20190828T092950Z
LAST-MODIFIED:20200413T190535Z
UID:2014-1587322800-1587328200@chelseachen.com
SUMMARY:Manchester MO POSTPONED
DESCRIPTION:Solo Concert \n
URL:https://chelseachen.com/event/st-louis-mo-manchester-umc/
LOCATION:129 Woods Mill Rd #4339\, Manchester\, MO 63011
ATTACH;FMTTYPE=image/jpeg:https://chelseachen.com/wp-content/uploads/2019/08/FAC70434.jpg
END:VEVENT
END:VCALENDAR