BEGIN:VCALENDAR
VERSION:2.0
PRODID:-//Chelsea Chen - ECPv4.6.9//NONSGML v1.0//EN
CALSCALE:GREGORIAN
METHOD:PUBLISH
X-WR-CALNAME:Chelsea Chen
X-ORIGINAL-URL:https://chelseachen.com
X-WR-CALDESC:Events for Chelsea Chen
BEGIN:VEVENT
DTSTART;TZID=America/New_York:20200405T150000
DTEND;TZID=America/New_York:20200405T170000
DTSTAMP:20260423T205430
CREATED:20190611T203101Z
LAST-MODIFIED:20190611T203101Z
UID:1978-1586098800-1586106000@chelseachen.com
SUMMARY:St. Ignatius Loyola\, New York\, NY
DESCRIPTION:Solo Organ Recital \n
URL:https://chelseachen.com/event/st-ignatius-loyola-new-york-ny/
LOCATION:980 Park Avenue\, New York\, NY\, 10028\, United States
ATTACH;FMTTYPE=image/jpeg:https://chelseachen.com/wp-content/uploads/2019/06/NY_loyola.jpg
END:VEVENT
END:VCALENDAR