BEGIN:VCALENDAR
VERSION:2.0
PRODID:-//Chelsea Chen - ECPv4.6.9//NONSGML v1.0//EN
CALSCALE:GREGORIAN
METHOD:PUBLISH
X-WR-CALNAME:Chelsea Chen
X-ORIGINAL-URL:https://chelseachen.com
X-WR-CALDESC:Events for Chelsea Chen
BEGIN:VEVENT
DTSTART;TZID=America/Chicago:20160629T190000
DTEND;TZID=America/Chicago:20160629T190000
DTSTAMP:20260424T034132
CREATED:20170515T001933Z
LAST-MODIFIED:20170515T002026Z
UID:1515-1467226800-1467226800@chelseachen.com
SUMMARY:Sinsinawa Concert 2016
DESCRIPTION:
URL:https://chelseachen.com/event/sinsinawa-concert-2016/
END:VEVENT
END:VCALENDAR