BEGIN:VCALENDAR
VERSION:2.0
PRODID:-//Chelsea Chen - ECPv4.6.9//NONSGML v1.0//EN
CALSCALE:GREGORIAN
METHOD:PUBLISH
X-WR-CALNAME:Chelsea Chen
X-ORIGINAL-URL:https://chelseachen.com
X-WR-CALDESC:Events for Chelsea Chen
BEGIN:VEVENT
DTSTART;TZID=America/Chicago:20210926T143000
DTEND;TZID=America/Chicago:20210926T160000
DTSTAMP:20260423T205517
CREATED:20190611T202626Z
LAST-MODIFIED:20210609T111842Z
UID:1974-1632666600-1632672000@chelseachen.com
SUMMARY:Trinity Lutheran Church\, Houston\, TX
DESCRIPTION:Solo Organ Recital \n
URL:https://chelseachen.com/event/september-26-2021-trinity-lutheran-church-houston/
LOCATION:800 Houston Ave\, Houston\, TX\, 77007\, United States
ATTACH;FMTTYPE=image/jpeg:https://chelseachen.com/wp-content/uploads/2019/06/tlc1rev.jpg
END:VEVENT
END:VCALENDAR