BEGIN:VCALENDAR
VERSION:2.0
PRODID:-//Chelsea Chen - ECPv4.6.9//NONSGML v1.0//EN
CALSCALE:GREGORIAN
METHOD:PUBLISH
X-WR-CALNAME:Chelsea Chen
X-ORIGINAL-URL:https://chelseachen.com
X-WR-CALDESC:Events for Chelsea Chen
BEGIN:VEVENT
DTSTART;TZID=America/New_York:20170307T190000
DTEND;TZID=America/New_York:20170307T190000
DTSTAMP:20260424T015336
CREATED:20170515T001936Z
LAST-MODIFIED:20170515T002026Z
UID:1520-1488913200-1488913200@chelseachen.com
SUMMARY:Sarasota 2017
DESCRIPTION:
URL:https://chelseachen.com/event/sarasota-2017/
END:VEVENT
END:VCALENDAR