BEGIN:VCALENDAR
VERSION:2.0
PRODID:-//Chelsea Chen - ECPv4.6.9//NONSGML v1.0//EN
CALSCALE:GREGORIAN
METHOD:PUBLISH
X-WR-CALNAME:Chelsea Chen
X-ORIGINAL-URL:https://chelseachen.com
X-WR-CALDESC:Events for Chelsea Chen
BEGIN:VEVENT
DTSTART;TZID=America/Los_Angeles:20190505T140000
DTEND;TZID=America/Los_Angeles:20190505T160000
DTSTAMP:20260423T222917
CREATED:20190411T093938Z
LAST-MODIFIED:20190411T093938Z
UID:1959-1557064800-1557072000@chelseachen.com
SUMMARY:San Diego Symphony\, May 3-5\, 2019
DESCRIPTION:San Diego Symphony weekend of concerts (5/3\, 5/4\, 5/5): \nFriday\, 5/3 8pm \nSaturday\, 5/4 8pm \nSunday\, 5/5 2pm \nPoulenc Organ Concerto\nSaint-Saëns Organ Symphony\nJahja Ling\, conductor\nChelsea Chen\, soloist \n
URL:https://chelseachen.com/event/san-diego-symphony-may-3-5-2019-2/
LOCATION:750 B St\, San Diego\, CA 92101
ATTACH;FMTTYPE=image/jpeg:https://chelseachen.com/wp-content/uploads/2018/03/20151212_200203.jpg
END:VEVENT
END:VCALENDAR