BEGIN:VCALENDAR
VERSION:2.0
PRODID:-//Chelsea Chen - ECPv4.6.9//NONSGML v1.0//EN
CALSCALE:GREGORIAN
METHOD:PUBLISH
X-WR-CALNAME:Chelsea Chen
X-ORIGINAL-URL:https://chelseachen.com
X-WR-CALDESC:Events for Chelsea Chen
BEGIN:VEVENT
DTSTART;TZID=America/Los_Angeles:20180730T193000
DTEND;TZID=America/Los_Angeles:20180730T213000
DTSTAMP:20260424T000106
CREATED:20180327T040953Z
LAST-MODIFIED:20180703T182114Z
UID:1863-1532979000-1532986200@chelseachen.com
SUMMARY:San Diego\, CA
DESCRIPTION:Concert with Joseph Lee\, cello  \n
URL:https://chelseachen.com/event/san-diego-ca/
LOCATION:2125 Pan American Rd E\, San Diego\, CA 92101
ATTACH;FMTTYPE=image/jpeg:https://chelseachen.com/wp-content/uploads/2018/03/spreckels-organ-pavilion_t640.jpg
END:VEVENT
END:VCALENDAR