BEGIN:VCALENDAR
VERSION:2.0
PRODID:-//Chelsea Chen - ECPv4.6.9//NONSGML v1.0//EN
CALSCALE:GREGORIAN
METHOD:PUBLISH
X-WR-CALNAME:Chelsea Chen
X-ORIGINAL-URL:https://chelseachen.com
X-WR-CALDESC:Events for Chelsea Chen
BEGIN:VEVENT
DTSTART;TZID=America/Los_Angeles:20220801T193000
DTEND;TZID=America/Los_Angeles:20220801T210000
DTSTAMP:20260423T191534
CREATED:20220505T203931Z
LAST-MODIFIED:20220505T203931Z
UID:2195-1659382200-1659387600@chelseachen.com
SUMMARY:San Diego\, CA
DESCRIPTION:Solo Concert \n
URL:https://chelseachen.com/event/san-diego-ca-3/
LOCATION:2125 Pan American Rd E\, San Diego\, CA 92101
END:VEVENT
END:VCALENDAR