BEGIN:VCALENDAR
VERSION:2.0
PRODID:-//Chelsea Chen - ECPv4.6.9//NONSGML v1.0//EN
CALSCALE:GREGORIAN
METHOD:PUBLISH
X-WR-CALNAME:Chelsea Chen
X-ORIGINAL-URL:https://chelseachen.com
X-WR-CALDESC:Events for Chelsea Chen
BEGIN:VEVENT
DTSTART;TZID=America/Chicago:20230423T150000
DTEND;TZID=America/Chicago:20230423T170000
DTSTAMP:20260423T172846
CREATED:20220903T221706Z
LAST-MODIFIED:20220903T221725Z
UID:2235-1682262000-1682269200@chelseachen.com
SUMMARY:San Antonio\, TX
DESCRIPTION:Solo Concert \n
URL:https://chelseachen.com/event/san-antonio-tx/
LOCATION:11 St Lukes Ln\, Alamo Heights\, TX 78209
END:VEVENT
END:VCALENDAR