BEGIN:VCALENDAR
VERSION:2.0
PRODID:-//Chelsea Chen - ECPv4.6.9//NONSGML v1.0//EN
CALSCALE:GREGORIAN
METHOD:PUBLISH
X-WR-CALNAME:Chelsea Chen
X-ORIGINAL-URL:https://chelseachen.com
X-WR-CALDESC:Events for Chelsea Chen
BEGIN:VEVENT
DTSTART;TZID=America/Chicago:20180617T190000
DTEND;TZID=America/Chicago:20180617T203000
DTSTAMP:20260424T000400
CREATED:20180218T034843Z
LAST-MODIFIED:20180218T034843Z
UID:1846-1529262000-1529267400@chelseachen.com
SUMMARY:Rockford\, IL: First Lutheran Church
DESCRIPTION:Concert for the POE Adult Camp \n
URL:https://chelseachen.com/event/rockford-il-first-lutheran-church/
LOCATION:225 S. Third Street\, Rockford\, IL 61104
ATTACH;FMTTYPE=image/jpeg:https://chelseachen.com/wp-content/uploads/2018/02/photo.jpg
END:VEVENT
END:VCALENDAR