BEGIN:VCALENDAR
VERSION:2.0
PRODID:-//Chelsea Chen - ECPv4.6.9//NONSGML v1.0//EN
CALSCALE:GREGORIAN
METHOD:PUBLISH
X-WR-CALNAME:Chelsea Chen
X-ORIGINAL-URL:https://chelseachen.com
X-WR-CALDESC:Events for Chelsea Chen
BEGIN:VEVENT
DTSTART;TZID=America/Los_Angeles:20230207T190000
DTEND;TZID=America/Los_Angeles:20230207T203000
DTSTAMP:20260423T171958
CREATED:20220903T221114Z
LAST-MODIFIED:20220903T221114Z
UID:2228-1675796400-1675801800@chelseachen.com
SUMMARY:Palm Desert\, CA
DESCRIPTION:Solo Concert (rescheduled from 2020) \n
URL:https://chelseachen.com/event/palm-desert-ca/
LOCATION:47535 CA-74\, Palm Desert\, CA 92260
END:VEVENT
END:VCALENDAR