BEGIN:VCALENDAR
VERSION:2.0
PRODID:-//Chelsea Chen - ECPv4.6.9//NONSGML v1.0//EN
CALSCALE:GREGORIAN
METHOD:PUBLISH
X-WR-CALNAME:Chelsea Chen
X-ORIGINAL-URL:https://chelseachen.com
X-WR-CALDESC:Events for Chelsea Chen
BEGIN:VEVENT
DTSTART;TZID=America/New_York:20220820T193000
DTEND;TZID=America/New_York:20220820T210000
DTSTAMP:20260423T191413
CREATED:20220505T204441Z
LAST-MODIFIED:20220505T204441Z
UID:2200-1661023800-1661029200@chelseachen.com
SUMMARY:Orleans\, MA
DESCRIPTION:Solo Concert \n  \n  \n
URL:https://chelseachen.com/event/orleans-ma/
LOCATION:5 Bay View Dr\, Orleans\, MA 02653
END:VEVENT
END:VCALENDAR