BEGIN:VCALENDAR
VERSION:2.0
PRODID:-//Chelsea Chen - ECPv4.6.9//NONSGML v1.0//EN
CALSCALE:GREGORIAN
METHOD:PUBLISH
X-WR-CALNAME:Chelsea Chen
X-ORIGINAL-URL:https://chelseachen.com
X-WR-CALDESC:Events for Chelsea Chen
BEGIN:VEVENT
DTSTART;TZID=America/Chicago:20170808T190000
DTEND;TZID=America/Chicago:20170808T200000
DTSTAMP:20260424T015501
CREATED:20170515T001946Z
LAST-MODIFIED:20170529T233003Z
UID:1536-1502218800-1502222400@chelseachen.com
SUMMARY:OHS 2017 Convention Recital
DESCRIPTION:
URL:https://chelseachen.com/event/ohs-2017-convention-recital/
LOCATION:170 Good Counsel Drive\, Mankato\, MN\, 56001\, United States
ATTACH;FMTTYPE=image/jpeg:https://chelseachen.com/wp-content/uploads/2017/04/mankato_good-counsel_johnson_lg.jpg
END:VEVENT
END:VCALENDAR