BEGIN:VCALENDAR
VERSION:2.0
PRODID:-//Chelsea Chen - ECPv4.6.9//NONSGML v1.0//EN
CALSCALE:GREGORIAN
METHOD:PUBLISH
X-WR-CALNAME:Chelsea Chen
X-ORIGINAL-URL:https://chelseachen.com
X-WR-CALDESC:Events for Chelsea Chen
BEGIN:VEVENT
DTSTART;TZID=America/New_York:20190927T190000
DTEND;TZID=America/New_York:20190927T203000
DTSTAMP:20260423T205344
CREATED:20190728T100814Z
LAST-MODIFIED:20190828T100416Z
UID:2005-1569610800-1569616200@chelseachen.com
SUMMARY:Ohio: Painesville United Methodist Church
DESCRIPTION:Solo Concert \n
URL:https://chelseachen.com/event/ohio-painesville-united-methodist-church/
LOCATION:71 N Park Pl\, Painesville\, OH 44077
ATTACH;FMTTYPE=image/png:https://chelseachen.com/wp-content/uploads/2019/07/Screen-Shot-2019-07-28-at-12.07.20-PM.png
END:VEVENT
END:VCALENDAR