BEGIN:VCALENDAR
VERSION:2.0
PRODID:-//Chelsea Chen - ECPv4.6.9//NONSGML v1.0//EN
CALSCALE:GREGORIAN
METHOD:PUBLISH
X-WR-CALNAME:Chelsea Chen
X-ORIGINAL-URL:https://chelseachen.com
X-WR-CALDESC:Events for Chelsea Chen
BEGIN:VEVENT
DTSTART;TZID=America/New_York:20191109T190000
DTEND;TZID=America/New_York:20191109T203000
DTSTAMP:20260423T205335
CREATED:20190611T201749Z
LAST-MODIFIED:20190611T203236Z
UID:1966-1573326000-1573331400@chelseachen.com
SUMMARY:First United Methodist\, Coral Gables\, FL
DESCRIPTION:Solo Organ Recital \n
URL:https://chelseachen.com/event/november-9-2019-coral-gables-fl/
LOCATION:536 Coral Way\, Coral Gables\, FL\, 33134\, United States
ATTACH;FMTTYPE=image/jpeg:https://chelseachen.com/wp-content/uploads/2019/06/o.jpg
END:VEVENT
END:VCALENDAR