BEGIN:VCALENDAR
VERSION:2.0
PRODID:-//Chelsea Chen - ECPv4.6.9//NONSGML v1.0//EN
CALSCALE:GREGORIAN
METHOD:PUBLISH
X-WR-CALNAME:Chelsea Chen
X-ORIGINAL-URL:https://chelseachen.com
X-WR-CALDESC:Events for Chelsea Chen
BEGIN:VEVENT
DTSTART;TZID=America/Chicago:20191103T143000
DTEND;TZID=America/Chicago:20191103T163000
DTSTAMP:20260423T223056
CREATED:20190611T201031Z
LAST-MODIFIED:20190613T174422Z
UID:1962-1572791400-1572798600@chelseachen.com
SUMMARY:Founders Hall\, SDSU\, Brookings\, SD
DESCRIPTION:Solo Organ Recital\nPerforming Arts Center\, Founders Recital Hall\, South Dakota State University\, Brookings\, SD \n
URL:https://chelseachen.com/event/november-3-2019-sdsu-brookings-south-dakota/
LOCATION:Founders Hall\, South Dakota State University\, Brookings\,\, SD\, 57007\, United States
ATTACH;FMTTYPE=image/jpeg:https://chelseachen.com/wp-content/uploads/2019/06/20190201_122106.jpg
END:VEVENT
END:VCALENDAR