BEGIN:VCALENDAR
VERSION:2.0
PRODID:-//Chelsea Chen - ECPv4.6.9//NONSGML v1.0//EN
CALSCALE:GREGORIAN
METHOD:PUBLISH
X-WR-CALNAME:Chelsea Chen
X-ORIGINAL-URL:https://chelseachen.com
X-WR-CALDESC:Events for Chelsea Chen
BEGIN:VEVENT
DTSTART;TZID=America/New_York:20160415T200000
DTEND;TZID=America/New_York:20160415T200000
DTSTAMP:20260424T034644
CREATED:20170515T001933Z
LAST-MODIFIED:20170515T002027Z
UID:1512-1460750400-1460750400@chelseachen.com
SUMMARY:Norfolk 2016
DESCRIPTION:
URL:https://chelseachen.com/event/norfolk-2016/
END:VEVENT
END:VCALENDAR