BEGIN:VCALENDAR
VERSION:2.0
PRODID:-//Chelsea Chen - ECPv4.6.9//NONSGML v1.0//EN
CALSCALE:GREGORIAN
METHOD:PUBLISH
X-WR-CALNAME:Chelsea Chen
X-ORIGINAL-URL:https://chelseachen.com
X-WR-CALDESC:Events for Chelsea Chen
BEGIN:VEVENT
DTSTART;TZID=America/New_York:20180318T160000
DTEND;TZID=America/New_York:20180318T173000
DTSTAMP:20260424T001853
CREATED:20171212T204136Z
LAST-MODIFIED:20171213T200957Z
UID:1769-1521388800-1521394200@chelseachen.com
SUMMARY:Newark\, New Jersey        Cathedral Basilica
DESCRIPTION:Solo Concert at the Cathedral Basilica of Newark \n
URL:https://chelseachen.com/event/newark-nj/
LOCATION:89 Ridge Street\, Newark\, NJ\, 07104\, United States
ATTACH;FMTTYPE=image/jpeg:https://chelseachen.com/wp-content/uploads/2017/12/7436192404_8f7e59867c_c.jpg
END:VEVENT
END:VCALENDAR