BEGIN:VCALENDAR
VERSION:2.0
PRODID:-//Chelsea Chen - ECPv4.6.9//NONSGML v1.0//EN
CALSCALE:GREGORIAN
METHOD:PUBLISH
X-WR-CALNAME:Chelsea Chen
X-ORIGINAL-URL:https://chelseachen.com
X-WR-CALDESC:Events for Chelsea Chen
BEGIN:VEVENT
DTSTART;TZID=America/New_York:20190323T150000
DTEND;TZID=America/New_York:20190323T163000
DTSTAMP:20260424T000517
CREATED:20180516T035953Z
LAST-MODIFIED:20190105T215220Z
UID:1859-1553353200-1553358600@chelseachen.com
SUMMARY:New York City\, St. Thomas Church
DESCRIPTION:Concert as part of the inaugural series \n
URL:https://chelseachen.com/event/new-york-city-st-thomas-church/
LOCATION:1 W 53rd St\, New York\, NY 10019
ATTACH;FMTTYPE=image/jpeg:https://chelseachen.com/wp-content/uploads/2018/03/maxresdefault.jpg
END:VEVENT
END:VCALENDAR