BEGIN:VCALENDAR
VERSION:2.0
PRODID:-//Chelsea Chen - ECPv4.6.9//NONSGML v1.0//EN
CALSCALE:GREGORIAN
METHOD:PUBLISH
X-WR-CALNAME:Chelsea Chen
X-ORIGINAL-URL:https://chelseachen.com
X-WR-CALDESC:Events for Chelsea Chen
BEGIN:VEVENT
DTSTART;TZID=America/New_York:20170318T100000
DTEND;TZID=America/New_York:20170318T100000
DTSTAMP:20260424T015131
CREATED:20170515T001944Z
LAST-MODIFIED:20170515T002026Z
UID:1534-1489831200-1489831200@chelseachen.com
SUMMARY:Moorestown Master Class
DESCRIPTION:Masterclass \n
URL:https://chelseachen.com/event/moorestown-master-class/
END:VEVENT
END:VCALENDAR