BEGIN:VCALENDAR
VERSION:2.0
PRODID:-//Chelsea Chen - ECPv4.6.9//NONSGML v1.0//EN
CALSCALE:GREGORIAN
METHOD:PUBLISH
X-WR-CALNAME:Chelsea Chen
X-ORIGINAL-URL:https://chelseachen.com
X-WR-CALDESC:Events for Chelsea Chen
BEGIN:VEVENT
DTSTART;TZID=America/New_York:20170319T190000
DTEND;TZID=America/New_York:20170319T190000
DTSTAMP:20260424T015153
CREATED:20170515T001935Z
LAST-MODIFIED:20170515T002026Z
UID:1516-1489950000-1489950000@chelseachen.com
SUMMARY:Moorestown 2017
DESCRIPTION:
URL:https://chelseachen.com/event/moorestown-2017/
END:VEVENT
END:VCALENDAR