BEGIN:VCALENDAR
VERSION:2.0
PRODID:-//Chelsea Chen - ECPv4.6.9//NONSGML v1.0//EN
CALSCALE:GREGORIAN
METHOD:PUBLISH
X-WR-CALNAME:Chelsea Chen
X-ORIGINAL-URL:https://chelseachen.com
X-WR-CALDESC:Events for Chelsea Chen
BEGIN:VEVENT
DTSTART;TZID=America/New_York:20170325T100000
DTEND;TZID=America/New_York:20170325T100000
DTSTAMP:20260424T031946
CREATED:20170515T001938Z
LAST-MODIFIED:20170515T002026Z
UID:1524-1490436000-1490436000@chelseachen.com
SUMMARY:Montclair 2017 Masterclass
DESCRIPTION:MASTERCLASS \n
URL:https://chelseachen.com/event/montclair-2017-masterclass/
END:VEVENT
END:VCALENDAR