BEGIN:VCALENDAR
VERSION:2.0
PRODID:-//Chelsea Chen - ECPv4.6.9//NONSGML v1.0//EN
CALSCALE:GREGORIAN
METHOD:PUBLISH
X-WR-CALNAME:Chelsea Chen
X-ORIGINAL-URL:https://chelseachen.com
X-WR-CALDESC:Events for Chelsea Chen
BEGIN:VEVENT
DTSTART;TZID=America/New_York:20170324T200000
DTEND;TZID=America/New_York:20170324T200000
DTSTAMP:20260424T015439
CREATED:20170515T001938Z
LAST-MODIFIED:20170515T002026Z
UID:1523-1490385600-1490385600@chelseachen.com
SUMMARY:Montclair 2017 Concert
DESCRIPTION:Solo Concert \n
URL:https://chelseachen.com/event/montclair-2017-concert/
END:VEVENT
END:VCALENDAR