BEGIN:VCALENDAR
VERSION:2.0
PRODID:-//Chelsea Chen - ECPv4.6.9//NONSGML v1.0//EN
CALSCALE:GREGORIAN
METHOD:PUBLISH
X-WR-CALNAME:Chelsea Chen
X-ORIGINAL-URL:https://chelseachen.com
X-WR-CALDESC:Events for Chelsea Chen
BEGIN:VEVENT
DTSTART;TZID=America/Chicago:20170124T133000
DTEND;TZID=America/Chicago:20170124T133000
DTSTAMP:20260424T032747
CREATED:20170515T001935Z
LAST-MODIFIED:20170515T002026Z
UID:1518-1485264600-1485264600@chelseachen.com
SUMMARY:Masterclass at Valpo 2017
DESCRIPTION:
URL:https://chelseachen.com/event/masterclass-at-valpo-2017/
END:VEVENT
END:VCALENDAR