BEGIN:VCALENDAR
VERSION:2.0
PRODID:-//Chelsea Chen - ECPv4.6.9//NONSGML v1.0//EN
CALSCALE:GREGORIAN
METHOD:PUBLISH
X-WR-CALNAME:Chelsea Chen
X-ORIGINAL-URL:https://chelseachen.com
X-WR-CALDESC:Events for Chelsea Chen
BEGIN:VEVENT
DTSTART;TZID=Europe/Zurich:20220725T193000
DTEND;TZID=Europe/Zurich:20220725T203000
DTSTAMP:20260423T204957
CREATED:20220505T203618Z
LAST-MODIFIED:20220505T203618Z
UID:2190-1658777400-1658781000@chelseachen.com
SUMMARY:Magdeburg\, Germany
DESCRIPTION:Solo Concert \n
URL:https://chelseachen.com/event/magdeburg-germany/
LOCATION:Am Dom 1\, 39104 Magdeburg\, Germany
END:VEVENT
END:VCALENDAR