BEGIN:VCALENDAR
VERSION:2.0
PRODID:-//Chelsea Chen - ECPv4.6.9//NONSGML v1.0//EN
CALSCALE:GREGORIAN
METHOD:PUBLISH
X-WR-CALNAME:Chelsea Chen
X-ORIGINAL-URL:https://chelseachen.com
X-WR-CALDESC:Events for Chelsea Chen
BEGIN:VEVENT
DTSTART;TZID=America/Chicago:20240220T193000
DTEND;TZID=America/Chicago:20240220T213000
DTSTAMP:20260423T190008
CREATED:20231017T102048Z
LAST-MODIFIED:20231017T102955Z
UID:2290-1708457400-1708464600@chelseachen.com
SUMMARY:Madison\, Wisconsin: Overture Hall
DESCRIPTION:Solo Concert at Overture Hall \n
URL:https://chelseachen.com/event/madison-wisconsin-2/
LOCATION:201 State St\, Madison\, WI 53703
END:VEVENT
END:VCALENDAR