BEGIN:VCALENDAR
VERSION:2.0
PRODID:-//Chelsea Chen - ECPv4.6.9//NONSGML v1.0//EN
CALSCALE:GREGORIAN
METHOD:PUBLISH
X-WR-CALNAME:Chelsea Chen
X-ORIGINAL-URL:https://chelseachen.com
X-WR-CALDESC:Events for Chelsea Chen
BEGIN:VEVENT
DTSTART;TZID=America/New_York:20211114T150000
DTEND;TZID=America/New_York:20211114T170000
DTSTAMP:20260423T205609
CREATED:20211101T192327Z
LAST-MODIFIED:20211101T193038Z
UID:2158-1636902000-1636909200@chelseachen.com
SUMMARY:Madison Avenue Presbyterian Church: John Weaver memorial concert
DESCRIPTION:Joint concert with organists Andrew Henderson\, David Enlow\, Alan Morrison\, honoring our late teacher Dr. John Weaver. \nChelsea will perform: \nWeaver: Built on a Rock (2006) \nMulet: Méditation Religieuse \nMessiaen: Dieu Parmi Nous from La Nativité du Seigneur \n  \n
URL:https://chelseachen.com/event/madison-avenue-presbyterian-church-john-weaver-memorial-concert/
LOCATION:921 Madison Ave\, New York\, NY 10021
END:VEVENT
END:VCALENDAR