BEGIN:VCALENDAR
VERSION:2.0
PRODID:-//Chelsea Chen - ECPv4.6.9//NONSGML v1.0//EN
CALSCALE:GREGORIAN
METHOD:PUBLISH
X-WR-CALNAME:Chelsea Chen
X-ORIGINAL-URL:https://chelseachen.com
X-WR-CALDESC:Events for Chelsea Chen
BEGIN:VEVENT
DTSTART;TZID=America/Los_Angeles:20220130T160000
DTEND;TZID=America/Los_Angeles:20220130T173000
DTSTAMP:20260423T205530
CREATED:20211012T202632Z
LAST-MODIFIED:20211012T223335Z
UID:2145-1643558400-1643563800@chelseachen.com
SUMMARY:La Jolla Presbyterian Church\, San Diego\, CA
DESCRIPTION:Solo Concert on the newly completed Blackinton Organ \n  \n
URL:https://chelseachen.com/event/la-jolla-presbyterian-church-san-diego-ca-2/
ATTACH;FMTTYPE=image/jpeg:https://chelseachen.com/wp-content/uploads/2021/10/newpipesSmall.jpeg
END:VEVENT
END:VCALENDAR