BEGIN:VCALENDAR
VERSION:2.0
PRODID:-//Chelsea Chen - ECPv4.6.9//NONSGML v1.0//EN
CALSCALE:GREGORIAN
METHOD:PUBLISH
X-WR-CALNAME:Chelsea Chen
X-ORIGINAL-URL:https://chelseachen.com
X-WR-CALDESC:Events for Chelsea Chen
BEGIN:VEVENT
DTSTART;TZID=America/New_York:20161121T193000
DTEND;TZID=America/New_York:20161121T193000
DTSTAMP:20260424T033744
CREATED:20170515T001938Z
LAST-MODIFIED:20170515T002026Z
UID:1521-1479756600-1479756600@chelseachen.com
SUMMARY:Kravis Center 2016
DESCRIPTION:
URL:https://chelseachen.com/event/kravis-center-2016/
END:VEVENT
END:VCALENDAR