BEGIN:VCALENDAR
VERSION:2.0
PRODID:-//Chelsea Chen - ECPv4.6.9//NONSGML v1.0//EN
CALSCALE:GREGORIAN
METHOD:PUBLISH
X-WR-CALNAME:Chelsea Chen
X-ORIGINAL-URL:https://chelseachen.com
X-WR-CALDESC:Events for Chelsea Chen
BEGIN:VEVENT
DTSTART;TZID=Europe/Berlin:20210903T200000
DTEND;TZID=Europe/Berlin:20210903T213000
DTSTAMP:20260423T205048
CREATED:20200212T175146Z
LAST-MODIFIED:20210609T103949Z
UID:2059-1630699200-1630704600@chelseachen.com
SUMMARY:Konstanz\, Germany: Münster
DESCRIPTION:Solo organ concert \n
URL:https://chelseachen.com/event/konstanz-germany-munster/
LOCATION:Münsterpl. 1\, 78462 Konstanz\, Germany
ATTACH;FMTTYPE=image/jpeg:https://chelseachen.com/wp-content/uploads/2020/02/konstanz.jpg
END:VEVENT
END:VCALENDAR