BEGIN:VCALENDAR
VERSION:2.0
PRODID:-//Chelsea Chen - ECPv4.6.9//NONSGML v1.0//EN
CALSCALE:GREGORIAN
METHOD:PUBLISH
X-WR-CALNAME:Chelsea Chen
X-ORIGINAL-URL:https://chelseachen.com
X-WR-CALDESC:Events for Chelsea Chen
BEGIN:VEVENT
DTSTART;TZID=America/Chicago:20230504T190000
DTEND;TZID=America/Chicago:20230504T203000
DTSTAMP:20260423T172813
CREATED:20220903T221849Z
LAST-MODIFIED:20230321T173522Z
UID:2240-1683226800-1683232200@chelseachen.com
SUMMARY:Kirkwood\, MO
DESCRIPTION:Solo Concert \n
URL:https://chelseachen.com/event/kirkwood-mo/
LOCATION:100 E Adams Ave #4019\, Kirkwood\, MO 63122
END:VEVENT
END:VCALENDAR