BEGIN:VCALENDAR
VERSION:2.0
PRODID:-//Chelsea Chen - ECPv4.6.9//NONSGML v1.0//EN
CALSCALE:GREGORIAN
METHOD:PUBLISH
X-WR-CALNAME:Chelsea Chen
X-ORIGINAL-URL:https://chelseachen.com
X-WR-CALDESC:Events for Chelsea Chen
BEGIN:VEVENT
DTSTART;TZID=America/Chicago:20180704T140000
DTEND;TZID=America/Chicago:20180704T150000
DTSTAMP:20260424T002128
CREATED:20171212T214115Z
LAST-MODIFIED:20180731T154141Z
UID:1791-1530712800-1530716400@chelseachen.com
SUMMARY:Kansas City AGO National Convention
DESCRIPTION:Solo Recital for the AGO National Convention \n
URL:https://chelseachen.com/event/kansas-city-ago-national-convention/
LOCATION:1601 Broadway Blvd\, Kansas City\, MO 64108
END:VEVENT
END:VCALENDAR