BEGIN:VCALENDAR
VERSION:2.0
PRODID:-//Chelsea Chen - ECPv4.6.9//NONSGML v1.0//EN
CALSCALE:GREGORIAN
METHOD:PUBLISH
X-WR-CALNAME:Chelsea Chen
X-ORIGINAL-URL:https://chelseachen.com
X-WR-CALDESC:Events for Chelsea Chen
BEGIN:VEVENT
DTSTART;TZID=America/New_York:20170625T100000
DTEND;TZID=America/New_York:20170625T110000
DTSTAMP:20260424T015152
CREATED:20170515T001941Z
LAST-MODIFIED:20170529T225356Z
UID:1528-1498384800-1498388400@chelseachen.com
SUMMARY:Coral Ridge morning service
DESCRIPTION:10AM Traditional Service – organ and choir \n
URL:https://chelseachen.com/event/june-25-2017/
LOCATION:5555 N Federal Hwy\, Ft. Lauderdale\, FL\, 33308\, United States
ATTACH;FMTTYPE=image/jpeg:https://chelseachen.com/wp-content/uploads/2013/06/Coral_Ridge_Presbyterian_Church1.jpg
END:VEVENT
END:VCALENDAR