BEGIN:VCALENDAR
VERSION:2.0
PRODID:-//Chelsea Chen - ECPv4.6.9//NONSGML v1.0//EN
CALSCALE:GREGORIAN
METHOD:PUBLISH
X-WR-CALNAME:Chelsea Chen
X-ORIGINAL-URL:https://chelseachen.com
X-WR-CALDESC:Events for Chelsea Chen
BEGIN:VEVENT
DTSTART;TZID=America/New_York:20211015T193000
DTEND;TZID=America/New_York:20211015T210000
DTSTAMP:20260423T191729
CREATED:20190828T085434Z
LAST-MODIFIED:20210711T144712Z
UID:2010-1634326200-1634331600@chelseachen.com
SUMMARY:Hartford\, CT: Trinity College Chapel
DESCRIPTION:Solo Concert (rescheduled from 2020) \n
URL:https://chelseachen.com/event/hartford-ct-trinity-college-chapel/
LOCATION:300 Summit St\, Hartford\, CT 06106
ATTACH;FMTTYPE=image/png:https://chelseachen.com/wp-content/uploads/2019/08/Screen-Shot-2019-08-28-at-10.52.49-AM.png
END:VEVENT
END:VCALENDAR