BEGIN:VCALENDAR
VERSION:2.0
PRODID:-//Chelsea Chen - ECPv4.6.9//NONSGML v1.0//EN
CALSCALE:GREGORIAN
METHOD:PUBLISH
X-WR-CALNAME:Chelsea Chen
X-ORIGINAL-URL:https://chelseachen.com
X-WR-CALDESC:Events for Chelsea Chen
BEGIN:VEVENT
DTSTART;TZID=America/New_York:20240315T190000
DTEND;TZID=America/New_York:20240315T203000
DTSTAMP:20260423T190337
CREATED:20240113T012411Z
LAST-MODIFIED:20240113T012411Z
UID:2308-1710529200-1710534600@chelseachen.com
SUMMARY:Girard College\, Philadelphia\, PA
DESCRIPTION:Concert with the Philadelphia Orchestra Brass \n\n\nPhiladelphia Orchestra Brass Players to be announced \nORGAN: 1931 E.M. Skinner \nGirard College Chapel\, 2101 S College Avenue\, Philadelphia \n\n\n\n\nThe Festival’s opening concert showcases Girard University’s famed 1931 E.M. Skinner organ\, with heralded soloist Chelsea Chen\, joined by members of The Philadelphia Orchestra brass. Hailed by the Los Angeles Times for her “rare musicality” and “lovely\, lyrical grandeur\,” Chen has won international acclaim. The irresistible pulse of Ravel’s classic Bolero is spectacularly reimagined in Chen’s arrangement for organ\, brass and snare drum\, in a program that includes works by Dupré\, Bach and more. \nThis concert is part of the Philadelphia Organ Festival\, taking place from March 15 through March 22\, 2024. See the full list of events at phillyorganfestival.org. \n\n\n
URL:https://chelseachen.com/event/girard-college-philadelphia-pa/
END:VEVENT
END:VCALENDAR