BEGIN:VCALENDAR
VERSION:2.0
PRODID:-//Chelsea Chen - ECPv4.6.9//NONSGML v1.0//EN
CALSCALE:GREGORIAN
METHOD:PUBLISH
X-WR-CALNAME:Chelsea Chen
X-ORIGINAL-URL:https://chelseachen.com
X-WR-CALDESC:Events for Chelsea Chen
BEGIN:VEVENT
DTSTART;TZID=America/Los_Angeles:20230204T133000
DTEND;TZID=America/Los_Angeles:20230204T153000
DTSTAMP:20260423T172908
CREATED:20220903T220751Z
LAST-MODIFIED:20220903T220751Z
UID:2226-1675517400-1675524600@chelseachen.com
SUMMARY:Garden Grove\, CA
DESCRIPTION:Solo Concert on the newly refurbished Hazel Wright Organ \n
URL:https://chelseachen.com/event/garden-grove-ca/
LOCATION:13280 Chapman Ave\, Garden Grove\, CA 92840
END:VEVENT
END:VCALENDAR