BEGIN:VCALENDAR
VERSION:2.0
PRODID:-//Chelsea Chen - ECPv4.6.9//NONSGML v1.0//EN
CALSCALE:GREGORIAN
METHOD:PUBLISH
X-WR-CALNAME:Chelsea Chen
X-ORIGINAL-URL:https://chelseachen.com
X-WR-CALDESC:Events for Chelsea Chen
BEGIN:VEVENT
DTSTART;TZID=America/Los_Angeles:20200918T200000
DTEND;TZID=America/Los_Angeles:20200918T213000
DTSTAMP:20260423T205249
CREATED:20190828T095832Z
LAST-MODIFIED:20200413T190150Z
UID:2033-1600459200-1600464600@chelseachen.com
SUMMARY:Christ Cathedral POSTPONED
DESCRIPTION:Solo Organ Concert on the Hazel Wright newly-renovated organ \nPOSTPONED until 2021-2022 season \n
URL:https://chelseachen.com/event/garden-grove-ca-christ-cathedral/
LOCATION:13280 Chapman Ave\, Garden Grove\, CA 92840
ATTACH;FMTTYPE=image/jpeg:https://chelseachen.com/wp-content/uploads/2019/08/Crys-ext.jpg
END:VEVENT
END:VCALENDAR