BEGIN:VCALENDAR
VERSION:2.0
PRODID:-//Chelsea Chen - ECPv4.6.9//NONSGML v1.0//EN
CALSCALE:GREGORIAN
METHOD:PUBLISH
X-WR-CALNAME:Chelsea Chen
X-ORIGINAL-URL:https://chelseachen.com
X-WR-CALDESC:Events for Chelsea Chen
BEGIN:VEVENT
DTSTART;TZID=America/New_York:20181111T150000
DTEND;TZID=America/New_York:20181111T163000
DTSTAMP:20260424T002051
CREATED:20180116T184454Z
LAST-MODIFIED:20180116T184454Z
UID:1813-1541948400-1541953800@chelseachen.com
SUMMARY:Frederick\, MD: Evangelical Lutheran Church
DESCRIPTION:
URL:https://chelseachen.com/event/frederick-md-evangelical-lutheran-church/
LOCATION:31 E Church St\, Frederick\, MD 21701
ATTACH;FMTTYPE=image/jpeg:https://chelseachen.com/wp-content/uploads/2018/01/49628240.jpg
END:VEVENT
END:VCALENDAR